BEGIN:VCALENDAR
VERSION:2.0
PRODID:-//wp-events-plugin.com//6.6.3//EN
BEGIN:VEVENT
UID:11@victoriacontactimprov.com
DTSTART:20250128T023000Z
DTEND:20250128T053000Z
DTSTAMP:20250124T185630Z
URL:https://victoriacontactimprov.com/events/monday-night-jam-9/
SUMMARY:Monday Night Jam
DESCRIPTION:\n\n    \n    Come Dance with Us on Monday Night!\n\n    \n    
 Monday\, January 27 - Contact Improvisation Jam!\n    Location: Centennial
  United Church - Main Floor Assembly Hall \n    Entrance: 612 David St\n  
   \n    ***Please DO NOT leave any personal items in the hallway.***\n\n  
   \n    Schedule:\n    \n        Doors Open: ~6:35 pm\n        Group Warm-
 Up: 6:45 pm - 7:30 pm\n        Open Jam: 7:30 pm - 9:00 pm\n        Closin
 g Circle: 9:00 pm\n        Doors Close: 9:15 pm\n    \n\n    If you arrive
  during the warm-up\, please feel free to join or start your solo practice
 . Please respect the warm-up and avoid disruptions.\n\n    \n    About the
  Warm-Up\n    Farley Johansson\, a seasoned contact improvisation dancer a
 nd teacher with almost 20 years of experience studying at EDAM\, will be l
 eading this week's warm-up focused on exploring movement patterns and part
 nering work. Following the warm-up\, we’ll dive into a playful jam\, all
 owing dancers to apply new skills in a supportive and dynamic environment.
 \n\n\n    \n    About Monday Night Jams\n    Monday Night Jams is designed
  to be a welcoming space for both seasoned dancers and newcomers to explor
 e and deepen their practice of Contact Improvisation.\n\n    \n    Entry F
 ee\n    $10 to $20 Entry\, sliding scale - cash or e-transfer. Please reac
 h out to Michael McAmmond if finances are a barrier for attending.\n\n    
 \n    Questions?\n    If you have any questions\, feel free to reach out .
 \n\n    \n    Event Etiquette\n    Please enter the space in silence. Befo
 re speaking\, ask yourself: “Is what I’m discussing deepening my dance
  or distracting from it?”\n    Our intention is to create a safe\, conse
 nsual\, open\, fun\, and playful space grounded in deep listening and awar
 eness. We invite you to bring generosity and respect into your interaction
 s. Consider: What am I bringing to this space? How can I support myself an
 d others? Am I being trauma-informed in my interactions?\n\n    \n    Safe
 ty Policy\n    Zero tolerance for: predatory behavior\, non-consensual tou
 ch\, sexual advances\, or any ambiguous intimate physical touch. This is n
 ot a space to pursue romantic or sensual exploration. \n    If anything in
 appropriate is witnessed or experienced\, please speak with Michael or ano
 ther facilitator. Your concerns will be handled confidentially and with co
 mpassion.\n\n\n
LOCATION:Centennial United Church\, 612 David Street\,  Victoria\, BC\, Can
 ada
X-APPLE-STRUCTURED-LOCATION;VALUE=URI;X-ADDRESS=612 David Street\,  Victori
 a\, BC\, Canada;X-APPLE-RADIUS=100;X-TITLE=Centennial United Church:geo:0,
 0
END:VEVENT
END:VCALENDAR