BEGIN:VCALENDAR
VERSION:2.0
PRODID:-//wp-events-plugin.com//6.6.3//EN
BEGIN:VEVENT
UID:54@victoriacontactimprov.com
DTSTART;TZID=America/Vancouver:20260406T190000
DTEND;TZID=America/Vancouver:20260406T210000
DTSTAMP:20260406T055702Z
URL:https://victoriacontactimprov.com/events/monday-night-jam-45/
SUMMARY:Monday Night Jam
DESCRIPTION:\n\n    \n    Come Dance with Us on Monday Night!\n\n    \n    
 Monday\, April 6th - Contact Improvisation Jam!\n    Location: Centennial 
 United Church - Main Floor Assembly Hall \n    Entrance: 612 David St\n   
  \n    ***Please DO NOT leave any personal items in the hallway.***\n\n   
  \n    Schedule:\n    \n        Doors Open: 7:00 pm\n        Arrival: 7:00
 -7:10 pm\n        Group Warm-Up with Stu: 7:10 pm - 7:25 pm\n        Openi
 ng Circle: 7:25 pm - 7:30 pm pm\n        Jam: 7:30-9 pm\n        Doors Clo
 se: 9:00 pm\n    \n\n    If you arrive during the warm-up\, please feel fr
 ee to join or start your solo practice. Please respect the warm-up and avo
 id disruptions.\n\n    About the Guest Facilitator \n\nIt's Stu Phillips! 
 Here's his bio blurb:\n\nstuart phillips dances\, performs & teaches ci wo
 rldwide for over 40yrs w/strong emphasis on emotional movement inspiring i
 nteraction\, stulips.org\, he'll teach workshop 1st wknd may victoria\n\n 
    \n    About Monday Night Jams\n    Monday Night Jams is designed to be 
 a welcoming space for both seasoned dancers and newcomers to explore and d
 eepen their practice of Contact Improvisation.\n\n    \n    Entry Fee\n   
  $15 to $25 Entry\, sliding scale - cash or e-transfer. $10 for low-income
  and unwaged jammers.\n\n    \n    Questions?\n    If you have any questio
 ns\, feel free to reach out .\n\n    \n    Event Etiquette\n    Please ent
 er the space in silence. Before speaking\, ask yourself: “Is what I’m 
 discussing deepening my dance or distracting from it?”\n    Our intentio
 n is to create a safe\, consensual\, open\, fun\, and playful space ground
 ed in deep listening and awareness. We invite you to bring generosity and 
 respect into your interactions. Consider: What am I bringing to this space
 ? How can I support myself and others? Am I being trauma-informed in my in
 teractions?\n\n    \n    Safety Policy\n    Zero tolerance for: predatory 
 behavior\, non-consensual touch\, sexual advances\, or any ambiguous intim
 ate physical touch. This is not a space to pursue romantic or sensual expl
 oration. See the guidelines for more details \n    If anything inappropria
 te is witnessed or experienced\, please speak with Derek or Tony. Your con
 cerns will be handled with compassion\, discretion\, and good faith.\n\n\n
LOCATION:Centennial United Church\, 612 David Street\,  Victoria\, BC\, Can
 ada
X-APPLE-STRUCTURED-LOCATION;VALUE=URI;X-ADDRESS=612 David Street\,  Victori
 a\, BC\, Canada;X-APPLE-RADIUS=100;X-TITLE=Centennial United Church:geo:0,
 0
END:VEVENT
BEGIN:VTIMEZONE
TZID:America/Vancouver
X-LIC-LOCATION:America/Vancouver
BEGIN:DAYLIGHT
DTSTART:20260308T030000
TZOFFSETFROM:-0800
TZOFFSETTO:-0700
TZNAME:PDT
END:DAYLIGHT
END:VTIMEZONE
END:VCALENDAR