BEGIN:VCALENDAR
VERSION:2.0
PRODID:-//wp-events-plugin.com//6.6.3//EN
BEGIN:VEVENT
UID:52@victoriacontactimprov.com
DTSTART;TZID=America/Vancouver:20260330T190000
DTEND;TZID=America/Vancouver:20260330T210000
DTSTAMP:20260330T054920Z
URL:https://victoriacontactimprov.com/events/monday-night-jam-44/
SUMMARY:Monday Night Jam
DESCRIPTION:\n\n    \n    Come Dance with Us on Monday Night!\n\n    \n    
 Monday\, March 30th - Contact Improvisation Jam!\n    Location: Centennial
  United Church - Main Floor Assembly Hall \n    Entrance: 612 David St\n  
   \n    ***Please DO NOT leave any personal items in the hallway.***\n\n  
   \n    Schedule:\n    \n        Doors Open: 7:00 pm\n        Arrival: 7:0
 0-7:10 pm\n        Group Warm-Up with Tony: 7:10 pm - 7:20 pm\n        Ope
 ning Circle: 7:20 pm - 7:30 pm pm\n        Jam: 7:30-9 pm\n        Doors C
 lose: 9:00 pm\n    \n\n    If you arrive during the warm-up\, please feel 
 free to join or start your solo practice. Please respect the warm-up and a
 void disruptions.\n\n    About the Musical Guest\n\nOur musical guest this
  Monday is Elysia- she's kindly provided a bio- check it out:\n\n    I’v
 e been practicing sound for the past three years\, cultivating a relations
 hip with it as a pathway for inner alchemy. I hold spaces rooted in kindne
 ss and care\, where sound becomes a living medium — one that moves throu
 gh us\, reshapes us\, and returns us to something essential.\n\nAs a stude
 nt of Traditional Chinese Medicine and a lover of Mother Earth\, I’m dee
 ply inspired by the intelligence of the body and the wisdom of the nature.
  I believe that music is medicine\, and that healing can emerge through re
 sonance\, presence\, and shared experience.\n\nMy work is grounded in conn
 ection — to self\, to others\, and to the subtle spaces in between. I va
 lue community\, and I’m especially drawn to interactive\, co-created sou
 nd experiences that invite people to reconnect\, soften\, and remember the
 mselves within a collective field.\n\n    \n    About Monday Night Jams\n 
    Monday Night Jams is designed to be a welcoming space for both seasoned
  dancers and newcomers to explore and deepen their practice of Contact Imp
 rovisation.\n\n    \n    Entry Fee\n    $15 to $25 Entry\, sliding scale -
  cash or e-transfer. $10 for low-income and unwaged jammers.\n\n    \n    
 Questions?\n    If you have any questions\, feel free to reach out .\n\n  
   \n    Event Etiquette\n    Please enter the space in silence. Before spe
 aking\, ask yourself: “Is what I’m discussing deepening my dance or di
 stracting from it?”\n    Our intention is to create a safe\, consensual\
 , open\, fun\, and playful space grounded in deep listening and awareness.
  We invite you to bring generosity and respect into your interactions. Con
 sider: What am I bringing to this space? How can I support myself and othe
 rs? Am I being trauma-informed in my interactions?\n\n    \n    Safety Pol
 icy\n    Zero tolerance for: predatory behavior\, non-consensual touch\, s
 exual advances\, or any ambiguous intimate physical touch. This is not a s
 pace to pursue romantic or sensual exploration. See the guidelines for mor
 e details \n    If anything inappropriate is witnessed or experienced\, pl
 ease speak with Derek or Tony. Your concerns will be handled with compassi
 on\, discretion\, and good faith.\n\n\n
LOCATION:Centennial United Church\, 612 David Street\,  Victoria\, BC\, Can
 ada
X-APPLE-STRUCTURED-LOCATION;VALUE=URI;X-ADDRESS=612 David Street\,  Victori
 a\, BC\, Canada;X-APPLE-RADIUS=100;X-TITLE=Centennial United Church:geo:0,
 0
END:VEVENT
BEGIN:VTIMEZONE
TZID:America/Vancouver
X-LIC-LOCATION:America/Vancouver
BEGIN:DAYLIGHT
DTSTART:20260308T030000
TZOFFSETFROM:-0800
TZOFFSETTO:-0700
TZNAME:PDT
END:DAYLIGHT
END:VTIMEZONE
END:VCALENDAR