BEGIN:VCALENDAR
VERSION:2.0
PRODID:-//wp-events-plugin.com//6.6.3//EN
BEGIN:VEVENT
UID:51@victoriacontactimprov.com
DTSTART;TZID=America/Vancouver:20260316T190000
DTEND;TZID=America/Vancouver:20260316T210000
DTSTAMP:20260316T214637Z
URL:https://victoriacontactimprov.com/events/monday-night-jam-43/
SUMMARY:Monday Night Jam
DESCRIPTION:\n\n    \n    Come Dance with Us on Monday Night!\n\n    \n    
 Monday\, March 16th - Contact Improvisation Jam!\n    Location: Centennial
  United Church - Main Floor Assembly Hall \n    Entrance: 612 David St\n  
   \n    ***Please DO NOT leave any personal items in the hallway.***\n\n  
   \n    Schedule:\n    \n        Doors Open: 7:00 pm\n        Arrival: 7:0
 0 - 7:15 pm\n        Group Warm-Up: 7:15 pm - 7:25 pm\n        Opening Cir
 cle: 7:25 pm\n        Jam: 7:30-9 pm\n        Doors Close: 9:00 pm\n    \n
 \n    If you arrive during the warm-up\, please feel free to join or start
  your solo practice. Please respect the warm-up and avoid disruptions.\n\n
     \n    About the Warm-Up\n    We have no guest warm-up tonight\, so Ton
 y will lead the group through a basic presence and communication drill bef
 ore opening circle\n\n    \n    About Monday Night Jams\n    Monday Night 
 Jams is designed to be a welcoming space for both seasoned dancers and new
 comers to explore and deepen their practice of Contact Improvisation.\n\n 
    \n    Entry Fee\n    $15 to $25 Entry\, sliding scale - cash or e-trans
 fer. $10 for low-income and unwaged jammers.\n\n    \n    Questions?\n    
 If you have any questions\, feel free to reach out .\n\n    \n    Event Et
 iquette\n    Please enter the space in silence. Before speaking\, ask your
 self: “Is what I’m discussing deepening my dance or distracting from i
 t?”\n    Our intention is to create a safe\, consensual\, open\, fun\, a
 nd playful space grounded in deep listening and awareness. We invite you t
 o bring generosity and respect into your interactions. Consider: What am I
  bringing to this space? How can I support myself and others? Am I being t
 rauma-informed in my interactions?\n\n    \n    Safety Policy\n    Zero to
 lerance for: predatory behavior\, non-consensual touch\, sexual advances\,
  or any ambiguous intimate physical touch. This is not a space to pursue r
 omantic or sensual exploration. See the guidelines for more details \n    
 If anything inappropriate is witnessed or experienced\, please speak with 
 Derek or Tony. Your concerns will be handled with compassion\, discretion\
 , and good faith.\n\n\n
LOCATION:Centennial United Church\, 612 David Street\,  Victoria\, BC\, Can
 ada
X-APPLE-STRUCTURED-LOCATION;VALUE=URI;X-ADDRESS=612 David Street\,  Victori
 a\, BC\, Canada;X-APPLE-RADIUS=100;X-TITLE=Centennial United Church:geo:0,
 0
END:VEVENT
BEGIN:VTIMEZONE
TZID:America/Vancouver
X-LIC-LOCATION:America/Vancouver
BEGIN:DAYLIGHT
DTSTART:20260308T030000
TZOFFSETFROM:-0800
TZOFFSETTO:-0700
TZNAME:PDT
END:DAYLIGHT
END:VTIMEZONE
END:VCALENDAR