BEGIN:VCALENDAR
VERSION:2.0
PRODID:-//wp-events-plugin.com//6.6.3//EN
BEGIN:VEVENT
UID:48@victoriacontactimprov.com
DTSTART;TZID=America/Vancouver:20250929T190000
DTEND;TZID=America/Vancouver:20250929T210000
DTSTAMP:20250929T074318Z
URL:https://victoriacontactimprov.com/events/monday-night-jam-40/
SUMMARY:Monday Night Jam
DESCRIPTION:\n\n\nCome Dance with Us on Monday Night!\n\nMonday\, September
  8th - Contact Improvisation Jam!\nLocation: Centennial United Church - Ma
 in Floor Assembly Hall\nEntrance: 612 David St\n***Please DO NOT leave any
  personal items in the hallway.***\n\nSchedule:\n\n 	Doors Open: 7:00 pm\n
  	Group Warm-Up: 7:00 pm - 7:15 pm\n 	Open Jam: 7:15 pm - 8:45 pm\n 	Closi
 ng Circle: 8:45 pm\n 	Doors Close: 9:00 pm\n\nIf you arrive during the war
 m-up\, please feel free to join or start your solo practice. Please respec
 t the warm-up and avoid disruptions.\n\n\nAbout the Warm-Up\nA guided embo
 diment exercise to hone your physical listening skills as we transition in
 to the open jam.\n\n\nAbout Monday Night Jams\nMonday Night Jams is design
 ed to be a welcoming space for both seasoned dancers and newcomers to expl
 ore and deepen their practice of Contact Improvisation.\n\n\nEntry Fee\n$1
 5 to $25 Entry\, sliding scale - cash or e-transfer. $10 for low-income pa
 rticipants. Please reach out to Derek Wong if finances are a barrier for a
 ttending.\nCoaching is Available!\nFor an extra $10\, Derek\, Tony\, or an
 other of the facilitators will spend some time throughout the jam giving y
 ou pointers on form\, safety\, and technique.\n\n\nQuestions?\nIf you have
  any questions\, feel free to reach out .\n\n\nEvent Etiquette\nPlease ent
 er the space in silence. Before speaking\, ask yourself: “Is what I’m 
 discussing deepening my dance or distracting from it?”\n\nOur intention 
 is to create a safe\, consensual\, open\, fun\, and playful space grounded
  in deep listening and awareness. We invite you to bring generosity and re
 spect into your interactions. Consider: What am I bringing to this space? 
 How can I support myself and others? Am I being trauma-informed in my inte
 ractions?\n\n\nSafety Policy\nZero tolerance for: predatory behavior\, non
 -consensual touch\, sexual advances\, or any ambiguous intimate physical t
 ouch. This is not a space to pursue romantic or sensual exploration.\n\nIf
  anything inappropriate is witnessed or experienced\, please speak with De
 rek\, Tony\, or another facilitator. Your concerns will be handled confide
 ntially and with compassion.\n\n
LOCATION:Centennial United Church\, 612 David Street\,  Victoria\, BC\, Can
 ada
X-APPLE-STRUCTURED-LOCATION;VALUE=URI;X-ADDRESS=612 David Street\,  Victori
 a\, BC\, Canada;X-APPLE-RADIUS=100;X-TITLE=Centennial United Church:geo:0,
 0
END:VEVENT
BEGIN:VTIMEZONE
TZID:America/Vancouver
X-LIC-LOCATION:America/Vancouver
BEGIN:DAYLIGHT
DTSTART:20250309T030000
TZOFFSETFROM:-0800
TZOFFSETTO:-0700
TZNAME:PDT
END:DAYLIGHT
END:VTIMEZONE
END:VCALENDAR